BEGIN:VCALENDAR
VERSION:2.0
PRODID:-//Bruach Official Website - ECPv6.15.20//NONSGML v1.0//EN
CALSCALE:GREGORIAN
METHOD:PUBLISH
X-WR-CALNAME:Bruach Official Website
X-ORIGINAL-URL:https://bruach.info
X-WR-CALDESC:Events for Bruach Official Website
REFRESH-INTERVAL;VALUE=DURATION:PT1H
X-Robots-Tag:noindex
X-PUBLISHED-TTL:PT1H
BEGIN:VTIMEZONE
TZID:UTC
BEGIN:STANDARD
TZOFFSETFROM:+0000
TZOFFSETTO:+0000
TZNAME:UTC
DTSTART:20250101T000000
END:STANDARD
END:VTIMEZONE
BEGIN:VEVENT
DTSTART;TZID=UTC:20260809T000000
DTEND;TZID=UTC:20260809T235959
DTSTAMP:20260421T200237
CREATED:20260103T003834Z
LAST-MODIFIED:20260103T003834Z
UID:670-1786233600-1786319999@bruach.info
SUMMARY:HIGHLANDER\, INVERNESS
DESCRIPTION:
URL:https://bruach.info/event/highlander-inverness-2/
LOCATION:Highlander\, 44-46 Church St\, Inverness\, IV1 1EH\, United Kingdom
CATEGORIES:Bruach Gig 2026,Bruach Gigs
END:VEVENT
END:VCALENDAR