BEGIN:VCALENDAR
VERSION:2.0
PRODID:-//Bruach Official Website - ECPv6.15.20//NONSGML v1.0//EN
CALSCALE:GREGORIAN
METHOD:PUBLISH
X-ORIGINAL-URL:https://bruach.info
X-WR-CALDESC:Events for Bruach Official Website
REFRESH-INTERVAL;VALUE=DURATION:PT1H
X-Robots-Tag:noindex
X-PUBLISHED-TTL:PT1H
BEGIN:VTIMEZONE
TZID:UTC
BEGIN:STANDARD
TZOFFSETFROM:+0000
TZOFFSETTO:+0000
TZNAME:UTC
DTSTART:20250101T000000
END:STANDARD
END:VTIMEZONE
BEGIN:VEVENT
DTSTART;TZID=UTC:20260124T193000
DTEND;TZID=UTC:20260124T230000
DTSTAMP:20260421T164618
CREATED:20251129T215823Z
LAST-MODIFIED:20260119T221603Z
UID:502-1769283000-1769295600@bruach.info
SUMMARY:Havelock Hotel - Narin
DESCRIPTION:🔥 Burns Nicht at the Havelock Hotel\, Nairn\n🎶 Bruach – Live Burns Night Celebration\nJoin us for a special Burns Nicht celebration at the iconic Havelock Hotel in Nairn\, featuring an evening of energetic Scottish folk-rock with Bruach. \nExpect driving rhythms\, powerful melodies\, and plenty of Celtic spirit as we celebrate the life and poetry of Robert Burns in true Highland style. \nThis intimate and lively venue is the perfect place to enjoy traditional tunes\, modern folk-rock\, and a great night out with friends\, music\, and atmosphere. \n\n📍 Event Details\n📌 Venue: Havelock Hotel\, Nairn📅 Date: Saturday 24th January 2026⏰ Time: 7:30 pm – 11:00 pm (approximate) \n🕯️ Please note: performance times may vary slightly on the night. \n\n🎻 About the Night\nBurns Night is one of Scotland’s most loved annual celebrations — a night of music\, poetry\, whisky\, and community. \nBruach brings a high-energy mix of traditional and contemporary Celtic music\, creating a festive atmosphere perfect for dancing\, singing along\, and raising a glass to Scotland’s national bard. \n\n✨ Join Us\nCome and celebrate Burns Nicht with us in Nairn for an unforgettable winter evening filled with live music\, tradition\, and Highland spirit. \nSlàinte! 🥃🔥🎶
URL:https://bruach.info/event/havelock-hotel-narin/
LOCATION:The Havelock Hotel\, Crescent Road\, Nairn\, Highland\, IV12 4NB\, United Kingdom
CATEGORIES:Bruach Gig 2026,Bruach Gigs
END:VEVENT
BEGIN:VEVENT
DTSTART;TZID=UTC:20260125T170000
DTEND;TZID=UTC:20260125T190000
DTSTAMP:20260421T164618
CREATED:20260119T205736Z
LAST-MODIFIED:20260119T205736Z
UID:694-1769360400-1769367600@bruach.info
SUMMARY:Danny Kyle Open Stage 2026! -Celtic Connections-
DESCRIPTION:🎶 Bruach – Live at Royal Concert Hall\, Glasgow\nWe’re thrilled to announce that Bruach has been selected to perform at the prestigious Danny Kyle Open Stage 2026 — one of Scotland’s most respected showcases for emerging and established live acts. \nHeld annually at the Royal Concert Hall in Glasgow\, the Danny Kyle Open Stage is renowned for celebrating outstanding musicians from across Scotland and beyond\, offering a platform for originality\, musicianship\, and live performance excellence. \nBruach will be bringing our high-energy Scottish folk-rock sound to the heart of the city for an evening filled with powerful melodies\, driving rhythms\, and Celtic spirit. \n\n📍 Event Details\n📌 Venue: Royal Concert Hall\, Glasgow📅 Date: Sunday 25th January 2026⏰ Time: 5:00 – 7:00 pm \n\n🎻 About the Danny Kyle Open Stage\nFounded in memory of legendary Scottish promoter Danny Kyle\, the Open Stage has become a cornerstone of Celtic Connections\, supporting new talent and celebrating the diversity of Scotland’s live music scene. \nBeing selected for this event is a true honour\, and we are incredibly proud to share the stage alongside so many inspiring performers as part of Celtic Connections 2026. \n\n✨ Join Us\nCome and join us for an unforgettable evening of live Scottish folk-rock music in one of the country’s most iconic concert halls. \nWe can’t wait to see you in Glasgow! \n🎶🍻🔥
URL:https://bruach.info/event/danny-kyle-open-stage-2026-celtic-connections/
LOCATION:Royal Concert Hall\, 2 Killermont St\, Glasgow\, G2 3NW\, United Kingdom
CATEGORIES:Bruach Gig 2026,Bruach Gigs
END:VEVENT
END:VCALENDAR