BEGIN:VCALENDAR
VERSION:2.0
PRODID:-//Bruach Official Website - ECPv6.15.20//NONSGML v1.0//EN
CALSCALE:GREGORIAN
METHOD:PUBLISH
X-ORIGINAL-URL:https://bruach.info
X-WR-CALDESC:Events for Bruach Official Website
REFRESH-INTERVAL;VALUE=DURATION:PT1H
X-Robots-Tag:noindex
X-PUBLISHED-TTL:PT1H
BEGIN:VTIMEZONE
TZID:UTC
BEGIN:STANDARD
TZOFFSETFROM:+0000
TZOFFSETTO:+0000
TZNAME:UTC
DTSTART:20230101T000000
END:STANDARD
END:VTIMEZONE
BEGIN:VEVENT
DTSTART;TZID=UTC:20251213T210000
DTEND;TZID=UTC:20251213T210000
DTSTAMP:20260422T112500
CREATED:20251129T215510Z
LAST-MODIFIED:20251210T222318Z
UID:497-1765659600-1765659600@bruach.info
SUMMARY:Cancelled : Montrose - Northern Vaults
DESCRIPTION:We are truly sorry 😔  \nThere was a booking issue with the venue. We have to cancel this gig because of double booking which we got notified 3 days before. \nWe play our last gig of 2025 in McKays\, Pitlochry\, that is sure!! 👍 \n\nJoin us for a cosy evening with Bruach at Northern Vaults in Montrose — our very first performance in this beautiful coastal town. \nBruach is a five-piece folk band featuring Kayo on fiddle in her kimono\, joined by four Scottish musicians in traditional kilts: Davie (vocals)\, Sean (bass)\, Pheely (guitar)\, and Niall (drums).Together they blend lively reels\, warm songs\, and heartfelt Scottish–Japanese fusion. \nExpect a friendly crowd\, a relaxed atmosphere\, and music that feels close and alive. \nMusic runs from 9:00 pm until midnight — Come join us and make our first Montrose night unforgettable.
URL:https://bruach.info/event/montrose-northern-vaults/
LOCATION:Northern Vaults Montrose\, 9 N Esk Rd\, Montrose\, DD10 8TJ\, United Kingdom
CATEGORIES:Bruach Gigs,Cancelled gig
END:VEVENT
BEGIN:VEVENT
DTSTART;TZID=UTC:20250613T143000
DTEND;TZID=UTC:20250613T163000
DTSTAMP:20260422T112500
CREATED:20250329T153135Z
LAST-MODIFIED:20251130T032144Z
UID:166-1749825000-1749832200@bruach.info
SUMMARY:Cancelled -- Booking issue //Bruach: George Hotel in June\, Inveraray
DESCRIPTION:Bruach returns to the George Hotel in Inveraray this June for a high-energy daytime set on their beautiful outdoor stage! With a growing crowd year after year\, this is quickly becoming one of our favorite gigs. Join us for an afternoon of powerful Scottish folk rock\, blending Celtic tradition with a modern twist—see you there!
URL:https://bruach.info/event/bruach-george-hotel-in-june-inveraray/
LOCATION:George hotel Inveraray\, The George Hotel\, 1 Main Street East\, Inveraray\, Scotland\, PA32 8TT\, United Kingdom
CATEGORIES:Bruach Gigs,Cancelled gig
END:VEVENT
BEGIN:VEVENT
DTSTART;TZID=UTC:20240914T190000
DTEND;TZID=UTC:20240914T210000
DTSTAMP:20260422T112500
CREATED:20250401T005344Z
LAST-MODIFIED:20251130T024136Z
UID:226-1726340400-1726347600@bruach.info
SUMMARY:BRUACH: Dumfries Music Festival (Cancelled)
DESCRIPTION:BRUACH was scheduled to perform at the Dumfries Music Festival on September 14th\, 2024\, at the Horse and Coaches venue — an event we were truly looking forward to. \n \nUnfortunately\, due to illness within the band (Pheely was struck by the flu)\, we had to make the difficult decision to cancel our appearance. It was disappointing\, but we were grateful for the understanding of the organizers and fellow musicians. \nWhile we weren’t able to take the stage that day\, the festival remains in our hearts\, and we hope to be part of it in the future. Sometimes\, simply being meant to play is part of the journey too.
URL:https://bruach.info/event/bruach-dumfries-music-festival-cancelled/
LOCATION:Coach and horses\, 66 whitesands\, Dumfries\, Scotland\, DG1 2RS\, United Kingdom
CATEGORIES:Bruach Gigs,Cancelled gig
END:VEVENT
END:VCALENDAR