BEGIN:VCALENDAR
VERSION:2.0
PRODID:-//Bruach Official Website - ECPv6.15.20//NONSGML v1.0//EN
CALSCALE:GREGORIAN
METHOD:PUBLISH
X-ORIGINAL-URL:https://bruach.info
X-WR-CALDESC:Events for Bruach Official Website
REFRESH-INTERVAL;VALUE=DURATION:PT1H
X-Robots-Tag:noindex
X-PUBLISHED-TTL:PT1H
BEGIN:VTIMEZONE
TZID:UTC
BEGIN:STANDARD
TZOFFSETFROM:+0000
TZOFFSETTO:+0000
TZNAME:UTC
DTSTART:20250101T000000
END:STANDARD
END:VTIMEZONE
BEGIN:VEVENT
DTSTART;TZID=UTC:20260926T000000
DTEND;TZID=UTC:20260926T235959
DTSTAMP:20260421T200401
CREATED:20260103T004503Z
LAST-MODIFIED:20260103T004503Z
UID:675-1790380800-1790467199@bruach.info
SUMMARY:HAVELOCH HOTEL\, NAIRN
DESCRIPTION:TBD
URL:https://bruach.info/event/haveloch-hotel-nairn-3/
LOCATION:The Havelock Hotel\, Crescent Road\, Nairn\, Highland\, IV12 4NB\, United Kingdom
CATEGORIES:Bruach Gig 2026,Bruach Gigs
END:VEVENT
BEGIN:VEVENT
DTSTART;TZID=UTC:20260927T000000
DTEND;TZID=UTC:20260927T235959
DTSTAMP:20260421T200401
CREATED:20260103T004643Z
LAST-MODIFIED:20260103T004700Z
UID:677-1790467200-1790553599@bruach.info
SUMMARY:HIGHLANDER\, INVERNESS
DESCRIPTION:TBD
URL:https://bruach.info/event/highlander-inverness-3/
LOCATION:Highlander\, 44-46 Church St\, Inverness\, IV1 1EH\, United Kingdom
CATEGORIES:Bruach Gig 2026,Bruach Gigs
END:VEVENT
END:VCALENDAR