BEGIN:VCALENDAR
VERSION:2.0
PRODID:-//Bruach Official Website - ECPv6.15.20//NONSGML v1.0//EN
CALSCALE:GREGORIAN
METHOD:PUBLISH
X-ORIGINAL-URL:https://bruach.info
X-WR-CALDESC:Events for Bruach Official Website
REFRESH-INTERVAL;VALUE=DURATION:PT1H
X-Robots-Tag:noindex
X-PUBLISHED-TTL:PT1H
BEGIN:VTIMEZONE
TZID:UTC
BEGIN:STANDARD
TZOFFSETFROM:+0000
TZOFFSETTO:+0000
TZNAME:UTC
DTSTART:20240101T000000
END:STANDARD
END:VTIMEZONE
BEGIN:VEVENT
DTSTART;TZID=UTC:20251220T210000
DTEND;TZID=UTC:20251220T210000
DTSTAMP:20260419T193040
CREATED:20251129T215702Z
LAST-MODIFIED:20251207T211002Z
UID:500-1766264400-1766264400@bruach.info
SUMMARY:McKays - Pitlochry
DESCRIPTION:Join us for another warm night of live music at McKays Pitlochry — one of our favourite places to play. \nBruach returns with lively fiddle tunes\, soulful songs\, and the familiar mix of kilts\, energy\, and Scottish–Japanese folk fusion. \nWe always love the atmosphere at McKays\, and we can’t wait to share another cosy evening with you all. \nMusic from 9:00 pm — everyone welcome.
URL:https://bruach.info/event/mckays-pitlochry/
LOCATION:McKays Pitlochry\, McKays Hotel\, Bar and Restaurant 138 Atholl Road\,\, Pitlochry\, Scotland\, PH16 5AG\, United Kingdom
CATEGORIES:Bruach Gigs
END:VEVENT
END:VCALENDAR